View In:
ArcGIS JavaScript
ArcGIS Online Map Viewer
ArcGIS Earth
Service Description: DOM_punkttetthet
Name: DOM_punkttetthet
Description:
Single Fused Map Cache: false
Extent:
XMin: -516478.3828
YMin: 6438688.215399999
XMax: 1211121.6172
YMax: 9013488.2154
Spatial Reference: 25833
(25833)
LatestVCSWkid(0)
Initial Extent:
XMin: -516478.3828
YMin: 6438688.215399999
XMax: 1211121.6172
YMax: 9013488.2154
Spatial Reference: 25833
(25833)
LatestVCSWkid(0)
Full Extent:
XMin: -516478.3828
YMin: 6438688.215399999
XMax: 1211121.6172
YMax: 9013488.2154
Spatial Reference: 25833
(25833)
LatestVCSWkid(0)
Pixel Size X: 1.0
Pixel Size Y: 1.0
Band Count: 1
Pixel Type: F32
RasterFunction Infos: {"rasterFunctionInfos": [
{
"name": "colormap_punkttetthet",
"description": "A raster function template.",
"help": ""
},
{
"name": "None",
"description": "A No-Op Function.",
"help": ""
}
]}
Mensuration Capabilities: None
Has Histograms: false
Has Colormap: false
Has Multi Dimensions : false
Rendering Rule:
Min Scale: 0
Max Scale: 0
Copyright Text:
Edit Fields Info:
- Creation Date Field: created_date
- Creator Field: created_by
- Edit Date Field: changed_date
- Editor Field: changed_by
Ownership Based Access Control:
- Allow Others to Update: false
- Allow Others to Delete: false
Service Data Type: esriImageServiceDataTypeElevation
Min Values: N/A
Max Values: N/A
Mean Values: N/A
Standard Deviation Values: N/A
Object ID Field: OBJECTID
Fields:
-
OBJECTID
(
type: esriFieldTypeOID, alias: OBJECTID
)
-
NAME
(
type: esriFieldTypeString, alias: NAME, length: 200
)
-
MINPS
(
type: esriFieldTypeDouble, alias: MINPS
)
-
MAXPS
(
type: esriFieldTypeDouble, alias: MAXPS
)
-
LOWPS
(
type: esriFieldTypeDouble, alias: LOWPS
)
-
HIGHPS
(
type: esriFieldTypeDouble, alias: HIGHPS
)
-
CATEGORY
(
type: esriFieldTypeInteger, alias: CATEGORY
, Coded Values:
[0: Unknown]
, [1: Primary]
, [2: Overview]
, ...5 more...
)
-
TAG
(
type: esriFieldTypeString, alias: TAG, length: 100
)
-
GROUPNAME
(
type: esriFieldTypeString, alias: GROUPNAME, length: 100
)
-
PRODUCTNAME
(
type: esriFieldTypeString, alias: PRODUCTNAME, length: 100
)
-
CENTERX
(
type: esriFieldTypeDouble, alias: CENTERX
)
-
CENTERY
(
type: esriFieldTypeDouble, alias: CENTERY
)
-
ZORDER
(
type: esriFieldTypeInteger, alias: ZORDER
)
-
SHAPE
(
type: esriFieldTypeGeometry, alias: SHAPE
)
-
LAS_PROJECT_ID
(
type: esriFieldTypeInteger, alias: LAS_PROJECT_ID
)
-
LAS_PROJECT_NAME
(
type: esriFieldTypeString, alias: LAS_PROJECT_NAME, length: 255
)
-
OPPDRAGSGIVER
(
type: esriFieldTypeString, alias: OPPDRAGSGIVER, length: 255
)
-
DEKNINGSNUMMER
(
type: esriFieldTypeString, alias: DEKNINGSNUMMER, length: 255
)
-
FKB_LASERSTANDARD
(
type: esriFieldTypeString, alias: FKB_LASERSTANDARD, length: 255
)
-
FLYFIRMA
(
type: esriFieldTypeString, alias: FLYFIRMA, length: 255
)
-
TYPE
(
type: esriFieldTypeString, alias: TYPE, length: 255
)
-
PRIORITET
(
type: esriFieldTypeSmallInteger, alias: PRIORITET
)
-
TILGANG
(
type: esriFieldTypeString, alias: TILGANG, length: 255
)
-
PROSJEKTNR
(
type: esriFieldTypeString, alias: PROSJEKTNR, length: 255
)
-
KOORDINATSYSTEM
(
type: esriFieldTypeString, alias: KOORDINATSYSTEM, length: 255
)
-
HOYDESYSTEM
(
type: esriFieldTypeString, alias: HOYDESYSTEM, length: 255
)
-
PUNKTTETTHET
(
type: esriFieldTypeDouble, alias: PUNKTTETTHET
)
-
AARSTALL
(
type: esriFieldTypeInteger, alias: AARSTALL
)
-
SISTEFLYDATO
(
type: esriFieldTypeDate, alias: SISTEFLYDATO, length: 8
)
-
PUBLISERT
(
type: esriFieldTypeString, alias: PUBLISERT, length: 20
)
-
RAPPORT
(
type: esriFieldTypeString, alias: RAPPORT, length: 255
)
-
OPPLOSNING
(
type: esriFieldTypeDouble, alias: OPPLOSNING
)
-
OBJEKTKATALOG
(
type: esriFieldTypeString, alias: OBJEKTKATALOG, length: 255
)
-
SHAPE.AREA
(
type: esriFieldTypeDouble, alias: SHAPE.AREA
)
-
SHAPE.LEN
(
type: esriFieldTypeDouble, alias: SHAPE.LEN
)
Default Mosaic Method: ByAttribute
Allowed Mosaic Methods: ByAttribute,NorthWest,LockRaster
SortField: lowps
SortValue: 0
Mosaic Operator: First
Default Compression Quality: 10000
Default Resampling Method: Nearest
Max Record Count: 1000
Max Image Height: 4000
Max Image Width: 4000
Max Download Image Count: 0
Max Mosaic Image Count: 20
Allow Raster Function: true
Allow Copy: true
Allow Analysis: true
Allow Compute TiePoints: false
Supports Statistics: true
Supports Advanced Queries: true
Use StandardizedQueries: true
Raster Type Infos:
Name: Raster Dataset
Description: Supports all ArcGIS Raster Datasets
Help:
Has Raster Attribute Table: false
Edit Fields Info: {"creationDateField":"created_date","creatorField":"created_by","editDateField":"changed_date","editorField":"changed_by"}
Ownership Based AccessControl For Rasters: {"allowOthersToDelete":false,"allowOthersToUpdate":false}
Child Resources:
Info
Statistics
Key Properties
Legend
Raster Function Infos
Supported Operations:
Export Image
Query
Identify
Compute Histograms
Compute Statistics Histograms
Get Samples
Compute Class Statistics
Query Boundary
Compute Pixel Location
Compute Angles
Validate
Project
Calculate Volume